Workbook

Sheet 自动统计信息（请勿填写）3
A1: 应聘人员基本信息汇总表
A2: 序号 | B2: 应聘岗位 | C2: 是否服从调配 | D2: 姓名 | E2: 出生年月（年龄） | F2: 性别 | G2: 政治面貌 | H2: 入党年月 | I2: 身份证号 | J2: 本人联系电话 | K2: 电子邮箱 | L2: 最高学历 | M2: 全日制教育经历 | N2: 在职教育经历 | O2: 英语能力 | P2: 参加工作时间 | Q2: 应聘岗位专业工作年限 | R2: 现单位 | S2: 现职务/岗位 | T2: 现年收入 （税前，万元/年） | U2: 期望年收入 （税前，万元/年） | V2: 职称/职业资格 | W2: 工作经历 | X2: 重大项目经历 | Y2: 获奖情况 | Z2: 备注 | AA2: 主要家庭成员情况
B3: =VLOOKUP($B$2,'信息转置专用（请勿删除）'!$A$2:$E$2,4,0) -> 综合秘书岗 | C3: =VLOOKUP($C$2,'信息转置专用（请勿删除）'!$F$2:$I$2,2,0) | D3: =VLOOKUP(D2,'信息转置专用（请勿删除）'!$A$4:$B$4,2,0) | E3: =VLOOKUP("出生日期及年龄",'信息转置专用（请勿删除）'!$E$4:$G$4,2,0) | F3: =VLOOKUP($F$2,'信息转置专用（请勿删除）'!$C$4:$D$4,2,0) | G3: =VLOOKUP($G$2,'信息转置专用（请勿删除）'!$A$6:$D$6,2,0) | H3: =VLOOKUP($H$2,'信息转置专用（请勿删除）'!$E$6:$G$6,2,0) | I3: =VLOOKUP($I$2,'信息转置专用（请勿删除）'!$E$5:$G$5,2,0) | J3: =VLOOKUP($J$2,'信息转置专用（请勿删除）'!$A$10:$D$10,2,0) | K3: =VLOOKUP(K2,'信息转置专用（请勿删除）'!E10:F10,2,0) | L3: =VLOOKUP($L$2,'信息转置专用（请勿删除）'!$J$2:$K$2,2,0) -> #N/A | M3: =VLOOKUP($M$2,'信息转置专用（请勿删除）'!$A$15:$M$17,13,0) | N3: =VLOOKUP($N$2,'信息转置专用（请勿删除）'!$A$19:$M$21,13,0) | O3: =VLOOKUP($O$2,'信息转置专用（请勿删除）'!$G$9:$I$9,3,0) | P3: =VLOOKUP($P$2,'信息转置专用（请勿删除）'!$A$7:$D$7,2,0) | Q3: =VLOOKUP("专业工作年限",'信息转置专用（请勿删除）'!$E$7:$G$7,2,0) | R3: =VLOOKUP("现单位",'信息转置专用（请勿删除）'!$A$9:$D$9,2,0) | S3: =VLOOKUP("现任岗位及职务",'信息转置专用（请勿删除）'!$E$9:$I$9,2,0) | T3: =VLOOKUP("当前年收入（税前，万元）",'信息转置专用（请勿删除）'!$A$12:$E$12,4,0) | U3: =VLOOKUP("期望年收入（税前，万元）",'信息转置专用（请勿删除）'!$F$12:$I$12,2,0) | V3: =HLOOKUP($V$2,'信息转置专用（请勿删除）'!$J$7:$J$8,2,0) | W3: =HLOOKUP($W$2,'信息转置专用（请勿删除）'!$K$23:$K$35,2,0) | X3: =HLOOKUP($X$2,'信息转置专用（请勿删除）'!$K$35:$K$47,2,0) | Y3: =HLOOKUP($Y$2,'信息转置专用（请勿删除）'!$K$47:$K$54,2,0) | AA3: =HLOOKUP($AA$2,'信息转置专用（请勿删除）'!$K$54:$K$64,2,0)

Sheet 自动统计信息（请勿填写）
A1: 应聘人员基本信息汇总表
A2: 序号 | B2: 应聘岗位 | C2: 是否服从调配 | D2: 姓名 | E2: 出生年月（年龄） | F2: 性别 | G2: 政治面貌 | H2: 入党年月 | I2: 身份证号 | J2: 本人联系电话 | K2: 电子邮箱 | L2: 最高学历 | M2: 全日制教育经历 | N2: 在职教育经历 | O2: 英语能力 | P2: 参加工作时间 | Q2: 应聘岗位专业工作年限 | R2: 现单位 | S2: 现职务/岗位 | T2: 现年收入 （税前，万元/年） | U2: 期望年收入 （税前，万元/年） | V2: 职称/职业资格 | W2: 工作经历 | X2: 重大项目经历 | Y2: 获奖情况 | Z2: 备注 | AA2: 主要家庭成员情况
B3: =VLOOKUP($B$2,'信息转置专用（请勿删除）'!$A$2:$E$2,4,0) -> 综合秘书岗 | C3: =VLOOKUP($C$2,'信息转置专用（请勿删除）'!$F$2:$I$2,2,0) | D3: =VLOOKUP(D2,'信息转置专用（请勿删除）'!$A$4:$B$4,2,0) | E3: =VLOOKUP("出生日期及年龄",'信息转置专用（请勿删除）'!$E$4:$G$4,2,0) | F3: =VLOOKUP($F$2,'信息转置专用（请勿删除）'!$C$4:$D$4,2,0) | G3: =VLOOKUP($G$2,'信息转置专用（请勿删除）'!$A$6:$D$6,2,0) | H3: =VLOOKUP($H$2,'信息转置专用（请勿删除）'!$E$6:$G$6,2,0) | I3: =VLOOKUP($I$2,'信息转置专用（请勿删除）'!$E$5:$G$5,2,0) | J3: =VLOOKUP($J$2,'信息转置专用（请勿删除）'!$A$10:$D$10,2,0) | K3: =VLOOKUP(K2,'信息转置专用（请勿删除）'!E10:F10,2,0) | L3: =VLOOKUP($L$2,'信息转置专用（请勿删除）'!$J$2:$K$2,2,0) -> #N/A | M3: =VLOOKUP($M$2,'信息转置专用（请勿删除）'!$A$15:$M$17,13,0) | N3: =VLOOKUP($N$2,'信息转置专用（请勿删除）'!$A$19:$M$21,13,0) | O3: =VLOOKUP($O$2,'信息转置专用（请勿删除）'!$G$9:$I$9,3,0) | P3: =VLOOKUP($P$2,'信息转置专用（请勿删除）'!$A$7:$D$7,2,0) | Q3: =VLOOKUP("专业工作年限",'信息转置专用（请勿删除）'!$E$7:$G$7,2,0) | R3: =VLOOKUP("现单位",'信息转置专用（请勿删除）'!$A$9:$D$9,2,0) | S3: =VLOOKUP("现任岗位及职务",'信息转置专用（请勿删除）'!$E$9:$I$9,2,0) | T3: =VLOOKUP("当前年收入（税前，万元）",'信息转置专用（请勿删除）'!$A$12:$E$12,4,0) | U3: =VLOOKUP("期望年收入（税前，万元）",'信息转置专用（请勿删除）'!$F$12:$I$12,2,0) | V3: =HLOOKUP($V$2,'信息转置专用（请勿删除）'!$J$7:$J$8,2,0) | W3: =HLOOKUP($W$2,'信息转置专用（请勿删除）'!$K$23:$K$33,2,0) | X3: =HLOOKUP($X$2,'信息转置专用（请勿删除）'!$K$35:$K$45,2,0) | Y3: =HLOOKUP($Y$2,'信息转置专用（请勿删除）'!$K$47:$K$52,2,0) | AA3: =HLOOKUP($AA$2,'信息转置专用（请勿删除）'!$K$54:$K$62,2,0)
